BEGIN:VCALENDAR
VERSION:2.0
PRODID:icalendar-ruby
CALSCALE:GREGORIAN
METHOD:PUBLISH
BEGIN:VEVENT
DTSTAMP:20260420T101243Z
UID:121-1193979@friendshipworshipcenter.com
DTSTART:20260419T190000Z
DTEND:20260419T220000Z
CLASS:PUBLIC
CREATED:20260415T223644
DESCRIPTION:
LAST-MODIFIED:20260415T223644
LOCATION:Friendship Worship Center  261 E. Lincoln Ave.  Mt. Vernon\, NY
SUMMARY:Little Savers\, Big Futures
URL;VALUE=URI:https://www.friendshipworshipcenter.com/events/little-savers-
 big-futures/2026-04-19
ATTACH;FILENAME=Photo-Apr-15-2026%2C-8-59-00-PM.jpg;FMTTYPE=image/jpeg:http
 s://dq5pwpg1q8ru0.cloudfront.net/2026/04/16/02/36/43/e48c4167-ac03-49af-a0
 71-6c6d0274d7d2/Photo-Apr-15-2026%252C-8-59-00-PM.jpg
END:VEVENT
END:VCALENDAR
